BEGIN:VCALENDAR
VERSION:2.0
PRODID:icalendar-ruby
CALSCALE:GREGORIAN
METHOD:PUBLISH
BEGIN:VEVENT
DTSTAMP:20260423T152808Z
UID:e75e0e5e-7b12-4878-9d5d-eb1ae17a0585
DTSTART;VALUE=DATE:20141105
DTEND;VALUE=DATE:20141105
DESCRIPTION:Daytona BMX
LOCATION:1670 Strickland Range Rd  Holly Hill FL 32117 USA
SUMMARY:Local Race Single
URL:/site/bmx_races/72563
END:VEVENT
END:VCALENDAR
