BEGIN:VCALENDAR
VERSION:2.0
PRODID:icalendar-ruby
CALSCALE:GREGORIAN
METHOD:PUBLISH
BEGIN:VEVENT
DTSTAMP:20260423T053149Z
UID:789f0329-396f-4847-b856-7b3674147539
DTSTART;VALUE=DATE:20140514
DTEND;VALUE=DATE:20140514
DESCRIPTION:Naples BMX
LOCATION:4701 Golden Gate Parkway  Naples FL 34116 USA
SUMMARY:Practice
URL:/site/bmx_races/74271
END:VEVENT
END:VCALENDAR
