BEGIN:VCALENDAR
VERSION:2.0
PRODID:icalendar-ruby
CALSCALE:GREGORIAN
METHOD:PUBLISH
BEGIN:VEVENT
DTSTAMP:20260422T212429Z
UID:4408e3b1-8cda-4310-bff6-480dbd528eb4
DTSTART;VALUE=DATE:20141029
DTEND;VALUE=DATE:20141029
DESCRIPTION:Naples BMX
LOCATION:4701 Golden Gate Parkway  Naples FL 34116 USA
SUMMARY:Practice
URL:/site/bmx_races/74295
END:VEVENT
END:VCALENDAR
