BEGIN:VCALENDAR
VERSION:2.0
PRODID:icalendar-ruby
CALSCALE:GREGORIAN
METHOD:PUBLISH
BEGIN:VEVENT
DTSTAMP:20260423T070214Z
UID:662ff75f-644d-481e-ae79-123e728e10d6
DTSTART;VALUE=DATE:20140414
DTEND;VALUE=DATE:20140414
DESCRIPTION:Naples BMX
LOCATION:4701 Golden Gate Parkway  Naples FL 34116 USA
SUMMARY:Practice
URL:/site/bmx_races/75065
END:VEVENT
END:VCALENDAR
