BEGIN:VCALENDAR
VERSION:2.0
PRODID:icalendar-ruby
CALSCALE:GREGORIAN
METHOD:PUBLISH
BEGIN:VEVENT
DTSTAMP:20260423T053230Z
UID:2c7d3e56-2735-45fd-a507-4730a578b3bb
DTSTART;VALUE=DATE:20140526
DTEND;VALUE=DATE:20140526
DESCRIPTION:Naples BMX
LOCATION:4701 Golden Gate Parkway  Naples FL 34116 USA
SUMMARY:Practice
URL:/site/bmx_races/75077
END:VEVENT
END:VCALENDAR
