BEGIN:VCALENDAR
VERSION:2.0
PRODID:icalendar-ruby
CALSCALE:GREGORIAN
METHOD:PUBLISH
BEGIN:VEVENT
DTSTAMP:20260423T004221Z
UID:fd471b47-37ca-44ff-b112-01af2d79e968
DTSTART;VALUE=DATE:20140816
DTEND;VALUE=DATE:20140816
DESCRIPTION:Naples BMX
LOCATION:4701 Golden Gate Parkway  Naples FL 34116 USA
SUMMARY:Practice
URL:/site/bmx_races/75100
END:VEVENT
END:VCALENDAR
