BEGIN:VCALENDAR
VERSION:2.0
PRODID:icalendar-ruby
CALSCALE:GREGORIAN
METHOD:PUBLISH
BEGIN:VEVENT
DTSTAMP:20260422T230809Z
UID:22a1c6ed-0dda-4541-94ca-096889babe6c
DTSTART;VALUE=DATE:20140927
DTEND;VALUE=DATE:20140927
DESCRIPTION:Naples BMX
LOCATION:4701 Golden Gate Parkway  Naples FL 34116 USA
SUMMARY:Practice
URL:/site/bmx_races/75112
END:VEVENT
END:VCALENDAR
