BEGIN:VCALENDAR
VERSION:2.0
PRODID:icalendar-ruby
CALSCALE:GREGORIAN
METHOD:PUBLISH
BEGIN:VEVENT
DTSTAMP:20260419T192707Z
UID:1707a616-2c80-485a-ad0f-3697b4767ba6
DTSTART;VALUE=DATE:20140521
DTEND;VALUE=DATE:20140521
DESCRIPTION:Goodyear BMX Raceway
LOCATION:15660 W Roeser Rd  Goodyear AZ 85338 USA
SUMMARY:Local Race Single
URL:/site/bmx_races/75742
END:VEVENT
END:VCALENDAR
