BEGIN:VCALENDAR
VERSION:2.0
PRODID:icalendar-ruby
CALSCALE:GREGORIAN
METHOD:PUBLISH
BEGIN:VEVENT
DTSTAMP:20260424T075556Z
UID:6457d495-a1ad-4767-abca-24a8793d3d0e
DTSTART;VALUE=DATE:20140816
DTEND;VALUE=DATE:20140816
DESCRIPTION:Goodyear BMX Raceway
LOCATION:15660 W Roeser Rd  Goodyear AZ 85338 USA
SUMMARY:Local Race Single
URL:/site/bmx_races/75792
END:VEVENT
END:VCALENDAR
