BEGIN:VCALENDAR
VERSION:2.0
PRODID:icalendar-ruby
CALSCALE:GREGORIAN
METHOD:PUBLISH
BEGIN:VEVENT
DTSTAMP:20260423T090805Z
UID:8e75d8fd-ed95-4a0e-9ece-a9307e85bd21
DTSTART;VALUE=DATE:20140608
DTEND;VALUE=DATE:20140608
DESCRIPTION:Richfield Park BMX
LOCATION:6550 N Irish Road  Davison MI 48423 USA
SUMMARY:Local Race Single
URL:/site/bmx_races/76258
END:VEVENT
END:VCALENDAR
