BEGIN:VCALENDAR
VERSION:2.0
PRODID:icalendar-ruby
CALSCALE:GREGORIAN
METHOD:PUBLISH
BEGIN:VEVENT
DTSTAMP:20260423T065528Z
UID:178e40ff-f3e4-4621-9c8f-ba344751d8fd
DTSTART;VALUE=DATE:20140709
DTEND;VALUE=DATE:20140709
DESCRIPTION:Rock City BMX
LOCATION:3300 10 Mile Road  Rockford MI 49341 USA
SUMMARY:Clinic
URL:/site/bmx_races/76372
END:VEVENT
END:VCALENDAR
