BEGIN:VCALENDAR
VERSION:2.0
PRODID:icalendar-ruby
CALSCALE:GREGORIAN
METHOD:PUBLISH
BEGIN:VEVENT
DTSTAMP:20260423T065528Z
UID:92c31c45-05ec-4307-bb75-cbb57aca6e74
DTSTART;VALUE=DATE:20140717
DTEND;VALUE=DATE:20140717
DESCRIPTION:Rock City BMX
LOCATION:3300 10 Mile Road  Rockford MI 49341 USA
SUMMARY:Practice
URL:/site/bmx_races/76377
END:VEVENT
END:VCALENDAR
