BEGIN:VCALENDAR
VERSION:2.0
PRODID:icalendar-ruby
CALSCALE:GREGORIAN
METHOD:PUBLISH
BEGIN:VEVENT
DTSTAMP:20260423T033703Z
UID:a2ec50ef-70d1-4b64-ba5a-0bf1c1d18f05
DTSTART;VALUE=DATE:20140913
DTEND;VALUE=DATE:20140913
DESCRIPTION:Rock City BMX
LOCATION:3300 10 Mile Road  Rockford MI 49341 USA
SUMMARY:Local Race Single
URL:/site/bmx_races/76406
END:VEVENT
END:VCALENDAR
