BEGIN:VCALENDAR
VERSION:2.0
PRODID:icalendar-ruby
CALSCALE:GREGORIAN
METHOD:PUBLISH
BEGIN:VEVENT
DTSTAMP:20260419T144055Z
UID:6920bb5c-9f4f-4a7c-9afd-647477b4bb2e
DTSTART;VALUE=DATE:20140824
DTEND;VALUE=DATE:20140824
DESCRIPTION:Cedar BMX
LOCATION:Red Barn Village Rd  Clarks Summit PA 18644 USA
SUMMARY:State Final Triple
URL:/site/bmx_races/77668
END:VEVENT
END:VCALENDAR
