BEGIN:VCALENDAR
VERSION:2.0
PRODID:icalendar-ruby
CALSCALE:GREGORIAN
METHOD:PUBLISH
BEGIN:VEVENT
DTSTAMP:20260424T025220Z
UID:06fa08c7-a6fe-4cd2-a5a7-3874720711a8
DTSTART;VALUE=DATE:20140710
DTEND;VALUE=DATE:20140710
DESCRIPTION:Akron BMX
LOCATION:800 Derby Downs Drive  Akron OH 44306 USA
SUMMARY:Local Race Single
URL:/site/bmx_races/78215
END:VEVENT
END:VCALENDAR
