BEGIN:VCALENDAR
VERSION:2.0
PRODID:icalendar-ruby
CALSCALE:GREGORIAN
METHOD:PUBLISH
BEGIN:VEVENT
DTSTAMP:20260420T194414Z
UID:c8d43054-cbf3-4964-b4c9-3c46d1ed4c25
DTSTART;VALUE=DATE:20141217
DTEND;VALUE=DATE:20141217
DESCRIPTION:Colorado River BMX
LOCATION:2230 Highland Dr  Bullhead City AZ 86442 USA
SUMMARY:Local Race Single
URL:/site/bmx_races/78356
END:VEVENT
END:VCALENDAR
