BEGIN:VCALENDAR
VERSION:2.0
PRODID:icalendar-ruby
CALSCALE:GREGORIAN
METHOD:PUBLISH
BEGIN:VEVENT
DTSTAMP:20260422T162856Z
UID:8fe432ca-2ee1-45b6-b07f-db5fb39b0935
DTSTART;VALUE=DATE:20140811
DTEND;VALUE=DATE:20140811
DESCRIPTION:Nanaimo BMX
LOCATION:2001 Labieux Road  Nanaimo BC V9T 3K7 CAN
SUMMARY:Practice
URL:/site/bmx_races/78864
END:VEVENT
END:VCALENDAR
