BEGIN:VCALENDAR
VERSION:2.0
PRODID:icalendar-ruby
CALSCALE:GREGORIAN
METHOD:PUBLISH
BEGIN:VEVENT
DTSTAMP:20260422T130236Z
UID:23155762-e132-473f-b21d-ae4093ef2f27
DTSTART;VALUE=DATE:20141001
DTEND;VALUE=DATE:20141001
DESCRIPTION:Nanaimo BMX
LOCATION:2001 Labieux Road  Nanaimo BC V9T 3K7 CAN
SUMMARY:Local Race Single
URL:/site/bmx_races/78878
END:VEVENT
END:VCALENDAR
