BEGIN:VCALENDAR
VERSION:2.0
PRODID:icalendar-ruby
CALSCALE:GREGORIAN
METHOD:PUBLISH
BEGIN:VEVENT
DTSTAMP:20260422T194740Z
UID:f3f21669-a333-4998-bf9e-1b95a1aa77bd
DTSTART;VALUE=DATE:20140604
DTEND;VALUE=DATE:20140604
DESCRIPTION:Nanaimo BMX
LOCATION:2001 Labieux Road  Nanaimo BC V9T 3K7 CAN
SUMMARY:Race for Life Double
URL:/site/bmx_races/78919
END:VEVENT
END:VCALENDAR
