BEGIN:VCALENDAR
VERSION:2.0
PRODID:icalendar-ruby
CALSCALE:GREGORIAN
METHOD:PUBLISH
BEGIN:VEVENT
DTSTAMP:20260422T223108Z
UID:3672348a-3bfe-4158-ba2e-41f8f0abda5a
DTSTART;VALUE=DATE:20140624
DTEND;VALUE=DATE:20140624
DESCRIPTION:Grand Valley BMX
LOCATION:2785 U.S. Highway 50  Grand Junction CO 81503 USA
SUMMARY:Olympic Day Single
URL:/site/bmx_races/79002
END:VEVENT
END:VCALENDAR
