BEGIN:VCALENDAR
VERSION:2.0
PRODID:icalendar-ruby
CALSCALE:GREGORIAN
METHOD:PUBLISH
BEGIN:VEVENT
DTSTAMP:20260423T135308Z
UID:be9e1d23-4309-41a9-845b-912fa2bc56ee
DTSTART;VALUE=DATE:20140612
DTEND;VALUE=DATE:20140612
DESCRIPTION:Rad Canyon BMX
LOCATION:5200 W 9800 S  West Jordan UT 84081 USA
SUMMARY:Earned Double
URL:/site/bmx_races/79004
END:VEVENT
END:VCALENDAR
