BEGIN:VCALENDAR
VERSION:2.0
PRODID:icalendar-ruby
CALSCALE:GREGORIAN
METHOD:PUBLISH
BEGIN:VEVENT
DTSTAMP:20260419T155451Z
UID:9adb0658-a65a-4592-843e-e22864b22eb7
DTSTART;VALUE=DATE:20140928
DTEND;VALUE=DATE:20140928
DESCRIPTION:Music City BMX Association
LOCATION:2901 Bell Road  Nashville TN 37217 USA
SUMMARY:State Final Triple
URL:/site/bmx_races/79813
END:VEVENT
END:VCALENDAR
