BEGIN:VCALENDAR
VERSION:2.0
PRODID:icalendar-ruby
CALSCALE:GREGORIAN
METHOD:PUBLISH
BEGIN:VEVENT
DTSTAMP:20260424T104821Z
UID:aa071dfc-fd1f-461f-a05c-289f2460a2fa
DTSTART;VALUE=DATE:20140720
DTEND;VALUE=DATE:20140720
DESCRIPTION:Star City BMX
LOCATION:101 Charleston St  Lincoln NE 68508 USA
SUMMARY:Warnicke Double
URL:/site/bmx_races/79975
END:VEVENT
END:VCALENDAR
