BEGIN:VCALENDAR
VERSION:2.0
PRODID:icalendar-ruby
CALSCALE:GREGORIAN
METHOD:PUBLISH
BEGIN:VEVENT
DTSTAMP:20260424T100637Z
UID:706bd32c-8283-4421-9be6-cd4f96ebc77c
DTSTART;VALUE=DATE:20140124
DTEND;VALUE=DATE:20140124
DESCRIPTION:Redwood Empire BMX
LOCATION:201 Vance Ave  Samoa CA 95564 USA
SUMMARY:Local Race Single
URL:/site/bmx_races/80130
END:VEVENT
END:VCALENDAR
