BEGIN:VCALENDAR
VERSION:2.0
PRODID:icalendar-ruby
CALSCALE:GREGORIAN
METHOD:PUBLISH
BEGIN:VEVENT
DTSTAMP:20260424T052851Z
UID:f133e098-0e29-4775-a60b-c61d639a7eb3
DTSTART;VALUE=DATE:20140418
DTEND;VALUE=DATE:20140418
DESCRIPTION:Redwood Empire BMX
LOCATION:201 Vance Ave  Samoa CA 95564 USA
SUMMARY:Local Race Single
URL:/site/bmx_races/80154
END:VEVENT
END:VCALENDAR
