BEGIN:VCALENDAR
VERSION:2.0
PRODID:icalendar-ruby
CALSCALE:GREGORIAN
METHOD:PUBLISH
BEGIN:VEVENT
DTSTAMP:20260423T190847Z
UID:089fd488-40b5-47c3-9eb4-62f2af5b40d3
DTSTART;VALUE=DATE:20141128
DTEND;VALUE=DATE:20141128
DESCRIPTION:Redwood Empire BMX
LOCATION:201 Vance Ave  Samoa CA 95564 USA
SUMMARY:Local Race Single
URL:/site/bmx_races/80216
END:VEVENT
END:VCALENDAR
