BEGIN:VCALENDAR
VERSION:2.0
PRODID:icalendar-ruby
CALSCALE:GREGORIAN
METHOD:PUBLISH
BEGIN:VEVENT
DTSTAMP:20260423T232652Z
UID:7a9db11b-4b0f-4b40-bcef-52415a0abfbf
DTSTART;VALUE=DATE:20140824
DTEND;VALUE=DATE:20140824
DESCRIPTION:Redwood Empire BMX
LOCATION:201 Vance Ave  Samoa CA 95564 USA
SUMMARY:Local Race Single
URL:/site/bmx_races/80254
END:VEVENT
END:VCALENDAR
