BEGIN:VCALENDAR
VERSION:2.0
PRODID:icalendar-ruby
CALSCALE:GREGORIAN
METHOD:PUBLISH
BEGIN:VEVENT
DTSTAMP:20260423T232652Z
UID:5b7a2377-78e3-4e1e-8e7d-43d4c3993f5d
DTSTART;VALUE=DATE:20140831
DTEND;VALUE=DATE:20140831
DESCRIPTION:Redwood Empire BMX
LOCATION:201 Vance Ave  Samoa CA 95564 USA
SUMMARY:Local Race Single
URL:/site/bmx_races/80255
END:VEVENT
END:VCALENDAR
