BEGIN:VCALENDAR
VERSION:2.0
PRODID:icalendar-ruby
CALSCALE:GREGORIAN
METHOD:PUBLISH
BEGIN:VEVENT
DTSTAMP:20260423T220231Z
UID:29a8c4bc-e87d-4e93-be27-4bec059df34f
DTSTART;VALUE=DATE:20140709
DTEND;VALUE=DATE:20140709
DESCRIPTION:St. Peters BMX
LOCATION:100 Brown Rd  St. Peters MO 63376 USA
SUMMARY:Local Race Single
URL:/site/bmx_races/80349
END:VEVENT
END:VCALENDAR
