BEGIN:VCALENDAR
VERSION:2.0
PRODID:icalendar-ruby
CALSCALE:GREGORIAN
METHOD:PUBLISH
BEGIN:VEVENT
DTSTAMP:20260424T174601Z
UID:6cce31f3-7649-48dc-b650-920de273164e
DTSTART;VALUE=DATE:20140525
DTEND;VALUE=DATE:20140525
DESCRIPTION:Richmond BMX
LOCATION:4401 Hobbs Lane   Next To Church Richmond VA 23231 USA
SUMMARY:Local Race Single
URL:/site/bmx_races/80835
END:VEVENT
END:VCALENDAR
