BEGIN:VCALENDAR
VERSION:2.0
PRODID:icalendar-ruby
CALSCALE:GREGORIAN
METHOD:PUBLISH
BEGIN:VEVENT
DTSTAMP:20260423T070110Z
UID:5d7863c7-e191-4fe8-9e17-ee06e0b8fd78
DTSTART;VALUE=DATE:20140404
DTEND;VALUE=DATE:20140404
DESCRIPTION:Naples BMX
LOCATION:4701 Golden Gate Parkway  Naples FL 34116 USA
SUMMARY:Local Race Single
URL:/site/bmx_races/81177
END:VEVENT
END:VCALENDAR
