BEGIN:VCALENDAR
VERSION:2.0
PRODID:icalendar-ruby
CALSCALE:GREGORIAN
METHOD:PUBLISH
BEGIN:VEVENT
DTSTAMP:20260419T232148Z
UID:1eb31f0d-3761-4346-b066-f7ed4f860b44
DTSTART;VALUE=DATE:20140610
DTEND;VALUE=DATE:20140610
DESCRIPTION:Eagle Park BMX
LOCATION:11800 N Horseshoe Bend Rd  Eagle ID 83616 USA
SUMMARY:Local Race Single
URL:/site/bmx_races/81197
END:VEVENT
END:VCALENDAR
