BEGIN:VCALENDAR
VERSION:2.0
PRODID:icalendar-ruby
CALSCALE:GREGORIAN
METHOD:PUBLISH
BEGIN:VEVENT
DTSTAMP:20260422T211054Z
UID:e5eca2e1-a1b6-4d7b-a220-e468d9bb7101
DTSTART;VALUE=DATE:20140921
DTEND;VALUE=DATE:20140921
DESCRIPTION:Chesapeake BMX
LOCATION:726 Donaldson Avenue  Severn MD 21144 USA
SUMMARY:State Final Triple
URL:/site/bmx_races/81562
END:VEVENT
END:VCALENDAR
