BEGIN:VCALENDAR
VERSION:2.0
PRODID:icalendar-ruby
CALSCALE:GREGORIAN
METHOD:PUBLISH
BEGIN:VEVENT
DTSTAMP:20260426T022802Z
UID:76f6591c-fc5d-4da3-b14e-ed1867e45c84
DTSTART;VALUE=DATE:20141212
DTEND;VALUE=DATE:20141212
DESCRIPTION:Yukon BMX
LOCATION:Taylor Park Sports Complex   410 N 11th St Yukon OK 73064 USA
SUMMARY:Local Race Single
URL:/site/bmx_races/81735
END:VEVENT
END:VCALENDAR
