BEGIN:VCALENDAR
VERSION:2.0
PRODID:icalendar-ruby
CALSCALE:GREGORIAN
METHOD:PUBLISH
BEGIN:VEVENT
DTSTAMP:20260426T035902Z
UID:db8ef2c2-df61-48e5-8d10-03b84ce8d8c2
DTSTART;VALUE=DATE:20141129
DTEND;VALUE=DATE:20141129
DESCRIPTION:Yukon BMX
LOCATION:Taylor Park Sports Complex   410 N 11th St Yukon OK 73064 USA
SUMMARY:Local Race Single
URL:/site/bmx_races/81772
END:VEVENT
END:VCALENDAR
