BEGIN:VCALENDAR
VERSION:2.0
PRODID:icalendar-ruby
CALSCALE:GREGORIAN
METHOD:PUBLISH
BEGIN:VEVENT
DTSTAMP:20260425T232847Z
UID:bb7c2ae5-a5bf-42f0-9628-95a32bb53b8d
DTSTART;VALUE=DATE:20140420
DTEND;VALUE=DATE:20140420
DESCRIPTION:County Line BMX
LOCATION:8560 South Colorado Blvd  Centennial CO 80126 USA
SUMMARY:Local Race Single
URL:/site/bmx_races/81891
END:VEVENT
END:VCALENDAR
