BEGIN:VCALENDAR
VERSION:2.0
PRODID:icalendar-ruby
CALSCALE:GREGORIAN
METHOD:PUBLISH
BEGIN:VEVENT
DTSTAMP:20260425T120850Z
UID:0ff5ba95-cc8c-4c05-84b1-8cd37f2f82d2
DTSTART;VALUE=DATE:20141012
DTEND;VALUE=DATE:20141012
DESCRIPTION:County Line BMX
LOCATION:8560 South Colorado Blvd  Centennial CO 80126 USA
SUMMARY:Local Race Single
URL:/site/bmx_races/81916
END:VEVENT
END:VCALENDAR
