BEGIN:VCALENDAR
VERSION:2.0
PRODID:icalendar-ruby
CALSCALE:GREGORIAN
METHOD:PUBLISH
BEGIN:VEVENT
DTSTAMP:20260419T190431Z
UID:b49979dd-79ec-4b65-a554-c02dd98ca749
DTSTART;VALUE=DATE:20141017
DTEND;VALUE=DATE:20141017
DESCRIPTION:Central Jersey BMX
LOCATION:2449 U.S. 9  Howell NJ 7731 USA
SUMMARY:Local Race Single
URL:/site/bmx_races/81963
END:VEVENT
END:VCALENDAR
