BEGIN:VCALENDAR
VERSION:2.0
PRODID:icalendar-ruby
CALSCALE:GREGORIAN
METHOD:PUBLISH
BEGIN:VEVENT
DTSTAMP:20260422T223107Z
UID:857c9136-8b31-4f06-8301-4b0c493fa19b
DTSTART;VALUE=DATE:20141213
DTEND;VALUE=DATE:20141213
DESCRIPTION:Ed Fountain Park BMX Raceway
LOCATION:1400 N Decatur Blvd  Las Vegas NV 89108 USA
SUMMARY:Earned Double
URL:/site/bmx_races/82369
END:VEVENT
END:VCALENDAR
