BEGIN:VCALENDAR
VERSION:2.0
PRODID:icalendar-ruby
CALSCALE:GREGORIAN
METHOD:PUBLISH
BEGIN:VEVENT
DTSTAMP:20260423T051352Z
UID:57b70369-4b2d-4fba-9224-53b686e3f636
DTSTART;VALUE=DATE:20140803
DTEND;VALUE=DATE:20140803
DESCRIPTION:Burdette Park BMX
LOCATION:5821 Nurrenbern Rd  Evansville IN 47712 USA
SUMMARY:Local Race Single
URL:/site/bmx_races/84294
END:VEVENT
END:VCALENDAR
