BEGIN:VCALENDAR
VERSION:2.0
PRODID:icalendar-ruby
CALSCALE:GREGORIAN
METHOD:PUBLISH
BEGIN:VEVENT
DTSTAMP:20260424T214557Z
UID:dbe247fb-6b0b-47ee-848e-6e67eedb9891
DTSTART;VALUE=DATE:20140921
DTEND;VALUE=DATE:20140921
DESCRIPTION:Langley BMX
LOCATION:4375 206 St Langley  Langley BC V3A 3B1 CAN
SUMMARY:Local Race Single
URL:/site/bmx_races/84608
END:VEVENT
END:VCALENDAR
