BEGIN:VCALENDAR
VERSION:2.0
PRODID:icalendar-ruby
CALSCALE:GREGORIAN
METHOD:PUBLISH
BEGIN:VEVENT
DTSTAMP:20260424T130354Z
UID:735de491-94dd-431e-93c6-28245455b8c0
DTSTART;VALUE=DATE:20140601
DTEND;VALUE=DATE:20140601
DESCRIPTION:Catamount BMX
LOCATION:Willow Park  472 East Rd Bennington VT 05201 USA
SUMMARY:Local Race Single
URL:/site/bmx_races/84719
END:VEVENT
END:VCALENDAR
