BEGIN:VCALENDAR
VERSION:2.0
PRODID:icalendar-ruby
CALSCALE:GREGORIAN
METHOD:PUBLISH
BEGIN:VEVENT
DTSTAMP:20260424T082723Z
UID:3667e8e0-2aa1-4fda-845e-2c6a7a62b157
DTSTART;VALUE=DATE:20140928
DTEND;VALUE=DATE:20140928
DESCRIPTION:Catamount BMX
LOCATION:Willow Park  472 East Rd Bennington VT 05201 USA
SUMMARY:Local Race Single
URL:/site/bmx_races/84730
END:VEVENT
END:VCALENDAR
