BEGIN:VCALENDAR
VERSION:2.0
PRODID:icalendar-ruby
CALSCALE:GREGORIAN
METHOD:PUBLISH
BEGIN:VEVENT
DTSTAMP:20260419T204745Z
UID:e86017a0-6785-4f38-b6e2-853b6c655280
DTSTART;VALUE=DATE:20140823
DTEND;VALUE=DATE:20140823
DESCRIPTION:Falcon BMX
LOCATION:Falcon Field 200 Westfield Road Meriden CT 06450 USA
SUMMARY:Local Race Single
URL:/site/bmx_races/85536
END:VEVENT
END:VCALENDAR
