BEGIN:VCALENDAR
VERSION:2.0
PRODID:icalendar-ruby
CALSCALE:GREGORIAN
METHOD:PUBLISH
BEGIN:VEVENT
DTSTAMP:20260425T184853Z
UID:77a513ae-a8f1-4b6c-9796-1cfeb196785b
DTSTART;VALUE=DATE:20140421
DTEND;VALUE=DATE:20140421
DESCRIPTION:Rad Canyon BMX
LOCATION:5200 W 9800 S  West Jordan UT 84081 USA
SUMMARY:Practice
URL:/site/bmx_races/86666
END:VEVENT
END:VCALENDAR
