BEGIN:VCALENDAR
VERSION:2.0
PRODID:icalendar-ruby
CALSCALE:GREGORIAN
METHOD:PUBLISH
BEGIN:VEVENT
DTSTAMP:20260424T110139Z
UID:d961a21b-7f6b-4649-9bb1-9b769f022e30
DTSTART;VALUE=DATE:20140524
DTEND;VALUE=DATE:20140524
DESCRIPTION:Hunterdon County BMX
LOCATION:314 Rt 12 North  Flemington NJ 08822 USA
SUMMARY:State Race Double
URL:/site/bmx_races/86809
END:VEVENT
END:VCALENDAR
