BEGIN:VCALENDAR
VERSION:2.0
PRODID:icalendar-ruby
CALSCALE:GREGORIAN
METHOD:PUBLISH
BEGIN:VEVENT
DTSTAMP:20260423T004440Z
UID:7c6e9994-ffa8-4238-b6cc-76051cd3d574
DTSTART;VALUE=DATE:20140707
DTEND;VALUE=DATE:20140707
DESCRIPTION:Far North BMX
LOCATION:Kiana St & 19th Ave  Fairbanks AK 99709 USA
SUMMARY:Practice
URL:/site/bmx_races/87051
END:VEVENT
END:VCALENDAR
