BEGIN:VCALENDAR
VERSION:2.0
PRODID:icalendar-ruby
CALSCALE:GREGORIAN
METHOD:PUBLISH
BEGIN:VEVENT
DTSTAMP:20260423T004514Z
UID:8d289d61-0019-43ab-94ce-0da2c28c6105
DTSTART;VALUE=DATE:20140726
DTEND;VALUE=DATE:20140726
DESCRIPTION:Far North BMX
LOCATION:Kiana St & 19th Ave  Fairbanks AK 99709 USA
SUMMARY:State Race Double
URL:/site/bmx_races/87213
END:VEVENT
END:VCALENDAR
