BEGIN:VCALENDAR
VERSION:2.0
PRODID:icalendar-ruby
CALSCALE:GREGORIAN
METHOD:PUBLISH
BEGIN:VEVENT
DTSTAMP:20260423T070123Z
UID:351706d4-0cc5-4b6e-bf0d-88ca933d85bc
DTSTART;VALUE=DATE:20140201
DTEND;VALUE=DATE:20140201
DESCRIPTION:Miami South BMX
LOCATION:13050 Sw 216th Street  Miami FL 33170 USA
SUMMARY:Standard Single
URL:/site/bmx_races/88161
END:VEVENT
END:VCALENDAR
