BEGIN:VCALENDAR
VERSION:2.0
PRODID:icalendar-ruby
CALSCALE:GREGORIAN
METHOD:PUBLISH
BEGIN:VEVENT
DTSTAMP:20260422T185836Z
UID:da56d801-c3ce-45fd-9dcb-6d15d574f560
DTSTART;VALUE=DATE:20140122
DTEND;VALUE=DATE:20140122
DESCRIPTION:San Diego BMX
LOCATION:3170 Armstrong Street Behind Kearny Mesa Recreation Center San Die
 go CA 92111 USA
SUMMARY:Standard Single
URL:/site/bmx_races/88629
END:VEVENT
END:VCALENDAR
